BEGIN:VCALENDAR
VERSION:2.0
PRODID:-//84.19.162.237//NONSGML kigkonsult.se iCalcreator 2.20//
CALSCALE:GREGORIAN
METHOD:PUBLISH
X-WR-TIMEZONE:Europe/Berlin
BEGIN:VEVENT
UID:event456@FBV´79 e.V.
DTSTAMP:20260423T191137Z
CATEGORIES:FBV Landesmeisterschaften
DESCRIPTION:LM Teams Sa\nKategorie: FBV Landesmeisterschaften\nICS-Link: ht
 tps://fbv1979.de/index.php?option=com_jem&view=event&id=456:lm-teams-sa-20
 26\n
DTSTART;VALUE=DATE:20260905
DTEND;VALUE=DATE:20260907
LOCATION:Bowlingbahn Markleeberg\,Städtelner Str. 80\,04416 Markkleeberg\,G
 ermany
SUMMARY:LM Teams Sa
URL:https://fbv1979.de/index.php?option=com_jem&view=event&id=456:lm-teams-
 sa-2026
END:VEVENT
BEGIN:VEVENT
UID:event455@FBV´79 e.V.
DTSTAMP:20260423T191137Z
CATEGORIES:FBV Landesmeisterschaften
DESCRIPTION:LM Teams BW\nKategorie: FBV Landesmeisterschaften\nICS-Link: ht
 tps://fbv1979.de/index.php?option=com_jem&view=event&id=455:lm-teams-bw-20
 26\n
DTSTART;VALUE=DATE:20260912
DTEND;VALUE=DATE:20260914
LOCATION:Bowling in Tauber\,Duderstädter Allee 33\,97941 Tauberbischofsheim
 \,Germany
SUMMARY:LM Teams BW
URL:https://fbv1979.de/index.php?option=com_jem&view=event&id=455:lm-teams-
 bw-2026
END:VEVENT
END:VCALENDAR
