BEGIN:VCALENDAR
VERSION:2.0
PRODID:-//84.19.162.237//NONSGML kigkonsult.se iCalcreator 2.20//
CALSCALE:GREGORIAN
METHOD:PUBLISH
X-WR-TIMEZONE:Europe/Berlin
BEGIN:VEVENT
UID:event428@FBV´79 e.V.
DTSTAMP:20260424T085328Z
CATEGORIES:FBV Landesliga
DESCRIPTION:3 Spieltag LL Sa 1\, 2 und 3 \nKategorie: FBV Landesliga\nICS-L
 ink: https://fbv1979.de/index.php?option=com_jem&view=event&id=428:landesl
 igastart-sa\n
DTSTART;VALUE=DATE:20260503
DTEND;VALUE=DATE:20260504
LOCATION:wird im Ligaplan bekannt gegeben\,unbekannt\,00000 siehe Ligaplan
SUMMARY:3 Spieltag LL Sa 1\, 2 und 3 
URL:https://fbv1979.de/index.php?option=com_jem&view=event&id=428:landeslig
 astart-sa
END:VEVENT
END:VCALENDAR
